Workbook
Name 宾馆餐饮_服务_后勤类: #REF!
Name 财务_金融类: #REF!
Name 电力_能源: #REF!
Name 电气: #REF!
Name 电子_半导体_电器_仪表: #REF!
Name 法律: #REF!
Name 翻译: #REF!
Name 房产_物业类: #REF!
Name 飞行器设计与制造: #REF!
Name 锅炉操作工_建筑: #REF!
Name 行政_人力资源类: #REF!
Name 航空乘务: #REF!
Name 化工: #REF!
Name 环保: #REF!
Name 机关_学生类: #REF!
Name 机械: #REF!
Name 计算机_网络_通信类: #REF!
Name 技工_普工类: #REF!
Name 建筑_装修_市政类: #REF!
Name 交通运输类: #REF!
Name 教育_培训类: #REF!
Name 经营管理: #REF!
Name 客服_技术支持: #REF!
Name 贸易_采购: #REF!
Name 美容_健身: #REF!
Name 模具_刀具_手版制作: #REF!
Name 农机修理工_农林牧渔: #REF!
Name 农林渔牧类: #REF!
Name 其他宾馆餐饮_服务_后勤类: #REF!
Name 其他财务_金融类: #REF!
Name 其他电力_能源: #REF!
Name 其他法律: #REF!
Name 其他翻译: #REF!
Name 其他房产_物业类: #REF!
Name 其他行政_人力资源类: #REF!
Name 其他环保: #REF!
Name 其他机关单位_学生类: #REF!
Name 其他机械: #REF!
Name 其他技工_普工: #REF!
Name 其他教育_培训类: #REF!
Name 其他经营管理: #REF!
Name 其他客服_技术支持: #REF!
Name 其他类: #REF!
Name 其他贸易_采购: #REF!
Name 其他商超_百货_零售: #REF!
Name 其他物流_仓储类: #REF!
Name 其他证券_金融_投资_银行: #REF!
Name 其他咨询: #REF!
Name 汽车_飞机_船舶_列车: #REF!
Name 汽车电子工程师: #REF!
Name 商超_百货_零售: #REF!
Name 设计_广告_媒体: #REF!
Name 生产经理_主管: #REF!
Name 市场营销类: #REF!
Name 水处理: #REF!
Name 涂装工_机电: #REF!
Name 舞蹈教师: #REF!
Name 舞台设计: #REF!
Name 物流_仓储类: #REF!
Name 销售主管: #REF!

Sheet 企业信息表
A1: 2026年湖南工会“春送岗位”就业服务月启动仪式暨工会就业服务进校园专场 招聘会企业信息表
A2: 序号 | B2: 公司名称（全称） | C2: 职位名称 | D2: 薪资待遇 | E2: 岗位数 | F2: 招聘人数 | G2: 邀请单位
A3: =MAX($A$2:A2)+1 -> 1 | B3: 老百姓大药房连锁股份有限公司 | C3: 客服专员 | D3: 3000-4000元/月 | E3: 5 | F3: 1 | G3: 省直工委
C4: 财务经理 | D4: 8000-12000元/月 | F4: 1 | G4: 省直
C5: 应收会计 | D5: 4000-6000元/月 | F5: 1 | G5: 省直
C6: 执业药师 | D6: 5000-8000元/月 | F6: 若干 | G6: 省直
C7: 储备店长 | D7: 5000-8000元/月 | F7: 若干 | G7: 省直
A8: =MAX($A$2:A7)+1 -> 2 | B8: 三一集团重卡事业部 | C8: 营销管培生 | D8: 8000-10000元/月 | E8: 1 | F8: 20 | G8: 省直工委
A9: =MAX($A$2:A8)+1 -> 3 | B9: 中建智慧城市服务有限公司 | C9: 安全班长 | E9: 6 | F9: 2 | G9: 省直
C10: 安全员 | F10: 25 | G10: 省直
C11: 厨师 | F11: 2 | G11: 省直
C12: 工程班长 | F12: 2 | G12: 省直
C13: 工程维修员 | F13: 3 | G13: 省直
C14: 客服管家 | F14: 4 | G14: 省直
A15: =MAX($A$2:A14)+1 -> 4 | B15: 中国平安财产保险股份有限公司湖南分公司 | C15: 数据管培生 | E15: 4 | G15: 省直
C16: 精算管培生 | G16: 省直
C17: 能源三电管培生 | G17: 省直
C18: 理赔管培生 | G18: 省直
A19: =MAX($A$2:A18)+1 -> 5 | B19: 中国平安人寿保险股份有限公司湖南分公司 | C19: NS管培生（培训管理） | E19: 9 | G19: 省直
C20: NS管培生（营销策划） | G20: 省直
C21: NS管培生（营销管理） | G21: 省直
C22: NS管培生（经营分析） | G22: 省直
C23: NS管培生（核保核赔） | G23: 省直
C24: NS管培生（消费者权益） | G24: 省直
C25: NS管培生（财务管理） | G25: 省直
C26: NS管培生（行政管理） | G26: 省直
C27: NS管培生（法律合规） | G27: 省直
A28: =MAX($A$2:A27)+1 -> 6 | B28: 湖南省茶业集团股份有限公司 | C28: 茶叶工程师 | E28: 5 | G28: 省直
C29: 外销员 | G29: 省直
C30: 跨境电商运营助理 | G30: 省直
C31: 信息化专员 | G31: 省直
C32: 质量认证专员 | G32: 省直
A33: =MAX($A$2:A32)+1 -> 7 | B33: 湖南嘉合晟贸易有限公司 | C33: 业务经理 | E33: 2 | G33: 省直
C34: 业务内勤 | G34: 省直
A35: =MAX($A$2:A34)+1 -> 8 | B35: 湖南农发金健国际贸易股份有限公司 | C35: 业务经理 | E35: 1 | G35: 省直
A36: =MAX($A$2:A35)+1 -> 9 | B36: 华声在线股份有限公司 | C36: 法务 | E36: 1 | G36: 省直
A37: =MAX($A$2:A36)+1 -> 10 | B37: 湖南医药集团中药材有限公司 | C37: 业务内勤 | E37: 1 | G37: 省直
A38: =MAX($A$2:A37)+1 -> 11 | B38: 湖南医药集团常德分公司 | C38: 业务内勤 | E38: 1 | G38: 省直
A39: =MAX($A$2:A38)+1 -> 12 | B39: 长沙市云研教育科技有限公司 | C39: 集装箱业务员 | D39: 5000-7000元/月 | E39: 1 | F39: 30 | G39: 林科大
A40: =MAX($A$2:A39)+1 -> 13 | B40: 湖南逸星文化传媒有限公司 | C40: 不露脸电台歌手 | D40: 5000-10000元/月 | E40: 2 | F40: 10 | G40: 林科大
...

Sheet 岗位信息表
A1: 2026年湖南工会“春送岗位”就业服务月启动仪式暨工会就业服务进校园专场 招聘会企业岗位信息表
A2: 序号 | B2: 公司名称（全称） | C2: *公司简介 | D2: *详细地点 | E2: *职位名称 | F2: 薪资待遇 | G2: *职位描述 | H2: *招聘人数 | I2: *招聘截止日期 | J2: *联系人 | K2: *联系人手机号码 | L2: *所属行业 | M2: *新型产业链 | N2: 邀请单位
A3: =MAX($A$2:A2)+1 -> 1 | B3: 中英人寿保险有限公司湖南分公司 | C3: 中英人寿保险有限公司由中国中粮资本投资有限公司与英国英杰华集团合资组建，于2003年1月1日正式开业，目前注册资本金29.5亿元人民币。中英人寿始终坚持财务稳健和规范经营的理念，经过多年的战略布局和市场拓展，目前业务已覆盖广东、北京、四川、福建、山东、湖南、河北、江苏、厦门、辽宁、湖北、河南、黑龙江、上海、安徽、江西、陕西、深圳等18个省市，共80多个重点城市，公司规模与利润均稳居合资第一梯队。 中英人寿以Care in Every Home（关爱万家）为企业愿景，以I_C.A.R.E.（关爱）为企业文化的核心价值观，从正直与诚信（Integrity）出发演绎出团队情 (Collaboration)、行动力 (Action)、务实性 (Result-oriented)、同理心 (Empathy)的中英文化，成为企业持续、高速发展的坚实基础和源动力。 强强联手打造的中英人寿秉承英杰华集团300多年的专业保险经验，依托中粮集团的强大实力，立足于中国市场，致力于成为领先的多渠道及数字化保险公司，打造定制化产品与服务，为广大客户提供优质的寿险服务及全面的财务保障！ | D3: 湖南省长沙市天心区湘江中路二段36号华远华中心5号楼32层 | E3: 培训讲师 | F3: 6000-8000元/月 | G3: 岗位职责： 1、负责机构营销条线的夕会，启动会等各类会议的组织与主持，提升会议质量； 2、制定销售人员培训计划，开发培训课件，开展产品知识、销售技巧、合规政策等专项培训； 3、负责网点沙龙的主持主讲，大型活动的主持； 4、完成机构交办的其他任务。 岗位要求： 1、本科（含）以上，征信良好，专业不限； 2、品行端正，能吃苦耐劳，具有较强的上进心，执行力强，有良好沟通的能力； 3、掌握相关的知识与技能优先。 薪资待遇：底薪6K+绩效奖金+五险两金+节假日福利+带薪年假。 | H3: 2 | I3: 46326 | J3: 袁先生 | K3: 19974856231 | L3: 会计_金融_银行_保险 | M3: 其他 | N3: 长沙人才市场
E4: 储备干部 | F4: 4000-6000元/月 | G4: 岗位职责： 1、负责银行业务人员的辅导和培训； 2、即时与银行传达沟通公司的业务政策； 3、了解机构管理网点的市场销售信息并即时向上级反馈； 4、完成部门交办的其他任务。 岗位要求： 1、大学专科（含）以上，征信良好，专业不限； 2、品行端正，能吃苦耐劳，具有较强的上进心，执行力强，有良好沟通的能力； 3、无经验者可培养。 薪资待遇：底薪3-6k+绩效奖金+节假日福利+带薪年假（在职员工月均1w+）。 | H4: 6 | I4: 46326
E5: 渠道经理 | F5: 4000-6000元/月 | G5: 岗位职责： 1、负责对银行网点提供优质专业的服务； 2、负责培训、辅导管辖网点的银行销售人员； 3、达成公司制定的各项业绩指标。 岗位要求： 1、大学专科（含）以上，征信良好，有从业经验或优秀人员可以放宽条件，专业不限； 2、品行端正，能吃苦耐劳，具有较强的上进心，执行力强，有良好沟通的能力； 3、具有经济、金融、财税等相关知识，从事过销售工作经验的，条件优秀者可适当放宽； 4、形象好，气质佳； 5、责任心强，有团队精神。 薪资待遇：底薪3-6k+绩效奖金+节假日福利+带薪年假（在职员工月均1w+）。 | H5: 8 | I5: 46326
E6: 区域总监 | F6: 10000-20000元/月 | G6: 岗位职责： 1、负责队伍的招聘，人员管理及培训； 2、负责团队所辖网点的业务培训及服务； 3、负责团队各项指标的达成； 4、完成机构交办的其他工作。 岗位要求： 1、大学本科（含）以上，征信良好，有从业经验或优秀人员可以放宽条件，专业不限； 2、品行端正，能吃苦耐劳，具有较强的上进心，执行力强，有良好沟通的能力； 3、具有经济、金融、财税等相关知识，从事过销售工作经验的，条件优秀者可适当放宽； 4、具备一定的组织管理能力和分析解决问题能力。 薪资待遇：底薪10k及以上+绩效奖金+团队管理津贴+五险两金+节假日福利+带薪年假。 | H6: 2 | I6: 46326
A7: =MAX($A$2:A6)+1 -> 2 | B7: 湖南艾力普斯智能科技有限公司 | C7: 湖南艾力普斯智能科技有限公司，成立于2024年10月，注册资本300万元，位于长沙经济技术开发区东六路南段77号（中非总部经济大厦）。是一家以商用冷柜等酒店用品为主，可提供一站式商厨设备解决方案和服务的贸易企业。 企业优势： 湖南艾力普斯隶属湖南绿零智能科技股份有限公司（简称：绿零科技），可借助总公司优势的制造能力及品牌影响力，给客户提供优质的产品和服务。 绿零科技（股权代码：800388HN）是一家以中高端商厨风冷冷柜、冷链柜、智能冷柜、星级酒店和智能厨房设备工程解决方案为主，集科研、设计、生产、销售、贸易于一体的高新技术企业。现有员工180人，工厂占地3万平米。产品获得60项专利，并通过国内外权威认证,包括:ETL、NSF、CE、ROSH、SASO、CCC、ISO、节能认证,食品接触等各项认证。绿零是国内外知名品牌，与全球40多个国家拥有贸易往来。 | D7: 长沙经济技术开发区东六路南段77号（中非总部经济大厦） | E7: 业务经理 | F7: 6000-8000元/月 | G7: 岗位职责： 1、负责分公司的地区售前、售中及售后服务工作，并在公司的领导下完成年度销售目标； 2、维护、管理好客户关系，开发新客户，独立处理和解决销售过程中的问题并最终签约； 3、负责分管片区的市场推广，了解和发掘客户需求，能独立完成产品推介和客户培训，并向客户介绍公司产品的优势和特色； 4、了解行业动向，收集潜在客户资料和信息，参与厨房设备工程公司、设计公司、餐饮连锁总部等项目洽谈和跟进，建立顺畅的客户沟通渠道； 5、对客户提供专业的咨询，并解决客户对销售和服务当中提出的诉求。 岗位要求： 1、大专以上学历市场营销、电子商务、经济管理等，或其他理工科类专业，大学期间担任班干部和学生会、党员优先；可接受市场营销等相关专业应届毕业生，但需有实习或校园销售实战（如社团推广、兼职销售等），薪资面议，可进一步沟通； 2、有酒店设备、商用冰箱、冷库、洗碗机、炉具等行业销售经验的，并与厨房工程公司和连锁餐饮管理公司有业务往来经验者优先； 3、性格外向，反应敏捷、表达能力强，具有亲和力和较强的沟通能力； 4、具备较强的市场营销经验及渠道拓展经验，具有敏锐的市场洞察力和市场分析判断能力； 5、服务意识强，具有良好的团队合作精神和独立处事能力； 6、有责任心，为人正直，身体健康，能长期出差的人员优先考虑； 7、愿意承担工作压力和接受挑战，能适应长期出差，工作中自备车辆的者优先。 工作地点安排：北京分公司、上海分公司、广州总部、中部地区。 职位福利：无责底薪、业绩提成、五险、绩效奖金、带团队、交通补助、弹性工作、出差补贴。 | H7: 8 | I7: 46326 | J7: 王丽娟 | K7: 15116395991 | L7: 贸易_消费_制造_营运 | M7: 其他 | N7: 长沙人才市场
E8: 外贸业务员 | F8: 6000-8000元/月 | G8: 岗位要求： 1、英语口语佳，具备和客户面对面沟通谈判的能力； 2、熟悉进出口外贸订单操作流程，外贸领域专业知识扎实； 3、有外贸工作经验，或有志于在外贸行业长期发展的优先。 | H8: 5 | I8: 46326
A9: =MAX($A$2:A8)+1 -> 3 | B9: 湖南成人达己餐饮管理有限公司 | C9: 湖南成人达己餐饮管理有限公司为华莱士长沙分公司，隶属于总部位于上海的华莱士连锁餐饮体系，是深耕湖南市场的本土化餐饮运营管理企业。 公司以华莱士品牌为依托，专注西式快餐连锁运营、门店管理与市场拓展，坚持标准化出品、规范化运营，为消费者提供安全、美味、高性价比的餐饮服务。 企业使命：用心做好每一餐，温暖全球每一人 企业愿景：成为全球最值得信赖的餐饮品牌 核心价值观：顾客至上，员工为本，合作共赢，有序经营 立足长沙、辐射湖南，公司始终坚守品牌初心，以品质为根、以服务为本、以共赢为道，持续为消费者创造美好用餐体验，与员工、合作伙伴携手共进，助力华莱士品牌在区域市场稳健发展。 | D9: 湖南省长沙市开福区上城金都国际公馆20楼2023 | E9: 店长 | F9: 6000-9000元/月 | G9: 岗位职责: 1、对餐厅的QSC(品质/服务/清洁)按照标准进行管理； 2、完成餐厅开铺/打样、日清、周清、月清等日常工作流程的安排； 3、完成门店行政工作，如门店员工考勤、工资表单、商品订货等； 4、对顾客满意度和外卖平台评分关注，能灵活妥善处理客户投诉； 5、对餐厅顾客区域、生产区域、仓库等每日进行巡视，帮助餐厅问题诊断，并及时解决； 6、门店人员管理，如门店人员招聘、人员带教、人员关系维护等； 7、通过销售技巧、资源利用等，完成门店销售利润的达成。 岗位要求: 1、大专及以上学历； 2、身体状况符合国家餐饮行业要求，有健康证； 3、无不良记录和嗜好;形象气质较好，五官端正； 4、有餐饮/零售服务行业工作经验的优先。 | H9: 10 | I9: 46326 | J9: 任政 | K9: 15388908181 | L9: 服务业 | M9: 其他 | N9: 长沙人才市场
E10: 督导 | F10: 8000-10000元/月 | G10: 岗位职责： 1、门店运营管控：负责区域内门店的标准化运营巡检（每月覆盖全部管辖门店），对门店卫生、产品出品质量、设备维护、服务流程等进行全面核查，输出巡检报告并跟进整改闭环；建立QSC（质量/服务/清洁）动态评估体系，通过数据分析定位TOP3问题，协同店长制定改善方案并追踪落地效果； 2、业绩增长管理：深度调研门店商圈特征，结合线上平台（外卖/团购）与线下客群消费数据，制定精准运营策略提升单店营业额；监控门店成本结构（食材损耗/人力成本/能耗），通过SOP优化帮助门店实现利润目标达成； 3、团队建设与人才发展：搭建店长梯队培养体系，组织实施月度技能培训与考核评估，年培养储备人才≥3人；负责区域内人员岗位优化，参与人员晋升评估及员工关系管理； 4、业绩增长制定策略：管辖区域门店业绩达到华莱士全国平均水平，并且能够稳定保持，同时帮助尾部餐厅业绩达到全国平均水平。 岗位要求： 1、大专及以上学历，有连锁餐饮企业运营经验或西式快餐从业者优先； 2、精通Excel数据透视表及餐饮管理系统； 3、具备敏锐的门店诊断能力，能快速识别运营痛点并提出可行性解决方案； 4、出色的跨部门协作能力，擅长通过总部资源联动推动政策落地； 5、抗压性强，适应出差（区域内门店覆盖率达100%）。 | H10: 10 | I10: 46326
E11: 城市经理 | F11: 10000-16000元/月 | G11: 岗位职责： 1、区域战略与目标管理：制定所辖城市或区域的年度/季度经营计划、业绩目标及关键策略，并对最终结果负责；统筹分析区域市场趋势、竞争格局与消费者洞察，调整经营方向与资源配置； 2、多店运营体系与标准建设：建立并优化区域门店运营标准体系，推动督导执行统一的SOP、QSC标准及巡检机制；负责区域内重大运营问题的协调解决，推动系统性改善（如供应链协同、设备升级等）； 3、业绩增长与利润统筹：监控区域整体业绩达成情况，分析各门店数据，制定差异化的业绩提升与成本控制策略；推动外卖、团购、会员等线上线下渠道整合运营，提升区域市场占有率和盈利能力； 4、团队管理与梯队发展：负责督导团队的选拔、培养、考核与激励，构建高效的区域运营管理团队；建立区域人才储备机制，制定并实施店长、督导等关键岗位的培训与发展路径； 5、跨部门与总部协同：代表区域与各部门（市场、产品、供应链、人力等）对接，推动资源落地与政策执行；协调处理区域内重大客诉、舆情或突发事件，维护品牌形象。 岗位要求： 1、大专及以上学历，有连锁餐饮行业运营管理经验或西式快餐经验优先； 2、具备较强的商业敏感度和数据分析能力，能通过财务数据、市场数据制定经营策略； 3、熟悉餐饮成本结构、盈利模型，具备利润导向的经营思维； 4、具备较强的团队管理与赋能能力，能有效驱动督导团队达成目标； 5、熟悉餐饮运营各系统（POS、CRM、供应链管理等），能通过系统化手段提升管理效率； 6、能适应高频出差与高强度工作，具备处理突发问题的决断力与应变能力； 7、对业绩结果负责，具备强烈的目标导向和执行力。 | H11: 10 | I11: 46326
A12: =MAX($A$2:A11)+1 -> 4 | B12: 长沙麦子教育科技有限公司 | C12: ⻓沙⻨⼦教育科技有限公司主攻⾼职单招领域的职业技能培训，核⼼特⾊在于针对每个学校的考题⼤纲开展个性化教学。公司投⼊⼤量教研与技术⼒量，⾸创了⼀套单招教研系统，通过AI技术，能够实现“考什么、教什么”的精准教学模式，为学⽣提供个性化复习资料和学习⽅案。公司与省内各⾼等院校建⽴了良好合作关系，为学⽣选择⼼仪的学校和专业提供了便利。凭借多年的发展，公司已拥有成熟的教育教学模式和精良的教育教学团队。 | D12: 湖南省长沙市岳麓区中南大学（西大门） | E12: 教研数据运营专员（AI与数据分析方向） | F12: 3000-5000元/月 | G12: 岗位职责： 1、核心业务支持：负责公司线上App教研相关数据的处理、录入与维护，确保业务内容的高质量上线； 2、数据敏锐度与异常处理：不只是机械的“录入”，需具备良好的数据敏感度。能够在实际操作中迅速察觉数据异常或逻辑漏洞，灵活应对复杂多变的业务场景并提出优化建议； 3、AI工具落地与提效：拥抱前沿技术，熟练使用各类AI大模型工具。能够根据业务需求，编写和优化高质量的提示词（Prompt），并运用轻量级脚本辅助日常工作，大幅提升教研数据的处理效率； 4、基础数据分析与洞察：提取并加工教研与App运营数据，使用SQL和Excel等工具进行轻量级数据分析。沉淀业务规律，为后续教研内容方向和产品迭代提供数据支撑。 岗位要求： 1、学历背景：本科及以上学历，专业不限（数学、统计、计算机或教育类专业优先），对应届毕业生极度友好； 2、技术工具要求：不要求具备专业的代码开发能力，但需掌握基础的 SQL 查询语句；熟练使用Office办公软件（尤其是Excel的数据处理功能）；[核心加分项] 熟悉AI工具（如ChatGPT、Gemini、doubao、Kimi等）的日常应用，有较强的Prompt撰写能力，或会使用Python编写简单自动化脚本者优先优先录取； 3、底层能力：具有较强的逻辑思维能力和问题拆解能力，遇到困难不轻易妥协，具备极强的“抗压与破局”精神；具备出色的信息检索、梳理归纳与总结反思能力；沟通能力强，能够在团队内部进行高效务实的协同合作； 4、工作态度：细心踏实，对数据准确度有一定“洁癖”。认同公司发展方向，愿意与公司共同长线成长。 | H12: 5 | I12: 46326 | J12: 陈老师 | K12: 18574841875 | L12: 专业服务_教育_培训 | M12: 其他 | N12: 长沙人才市场
E13: 任课教师 | F13: 4000-6000元/月 | G13: 岗位职责： 1、负责单招语数英及文理科、计算机、机械等综合科目的授课、习题讲解及考前冲刺辅导；​ 2、制定个性化教学计划，针对中职/普高学生差异化备课，根据学生模考数据制定个性化提分方案；​​​​​ 3、参与教研活动，优化数学课程体系，薄弱知识点分析；​​​​ 4、定期与班主任沟通学生学习情况，完成教学反馈。 岗位要求： 1、学历：本科及以上，理科类或计算机、师范类专业优先，有高中教师资格证优先；​ 2、经验：有高考或单招/中职/高中理科综合科目的教学经验； 3、熟悉单招科目考纲，能独立编写教案与模拟题； 4、热爱教育事业，责任心强，具体良好的沟通能力和服务意识； 5、具备一定的课堂管控能力。 | H13: 10 | I13: 46326
A14: =MAX($A$2:A13)+1 -> 5 | B14: 湖南世纪超星信息技术有限公司 | C14: 超星是-家高度专注和垂直的企业，只做两件事，一是数字图书馆，二是数字教育。在这两大领域下，超星的业务范围主要涉及五大市场:高校图书馆、高校教务处、职业教育、公共文化和基础教育。 超星为每一位怀揣梦想、敢于探索的你提供无限可能，无论你是技术狂热者，市场策略高手，还是管理潜力股，这里都有属于你的舞台。让我们一起，用智慧点亮未来，用热情书写青春，共同开启职业生涯的精彩篇章! | D14: 长沙市开福区通泰街街道中山路589号开福万达广场C区3号写字楼2701号 | E14: 销售 | F14: 5000-8000元/月 | G14: 岗位职责： 1、擅于制定计划，懂得合理安排自己的时间； 2、具备优秀的学习能力，善于观察，善于倾听，善于分析； 3、勇于开拓市场，对开拓的市场客户保持一定的维护； 4、沉着自信，对项目有一定的把控度； 5、抗压能力强，能完成部门制定的市场目标。 岗位要求： 1、全日制本科及以上学历，有教育行业工作者优先； 2、具有相关工作经验，有成功的市场案例者优先考虑； 3、具备较强的商业敏锐度、逻辑思维能力和谈判技巧，具备较好的团队合作能力； 4、具有较强的市场数据分析能力和文案撰写能力； 5、良好的沟通表达能力和客户服务意识，能够适应一定的工作压力。 | H14: 10 | I14: 46326 | J14: 唐女士 | K14: 18373122339 | L14: 专业服务_教育_培训 | M14: 其他 | N14: 长沙人才市场
E15: 运营专员 | F15: 5000-6000元/月 | G15: 岗位职责: 1、学习掌握智慧课程平台，根据项目要求为教师课程建设培训，帮助老师完成智慧课程建设； 2、独立策划与开发智慧课程内容，包括课程形式设计、主题策划、教学逻辑构建、知识图谱搭建及AI智能体配置等； 3、负责课程质量评估与优化，确保课程内容科学、前沿且符合教学需求； 4、对接优质师资资源，推动课程落地，并支持客户完成智慧课程成果申报； 5、严格执行课程审核规范，确保内容无意识形态错误，符合国家教育政策及行业标准； 6、建立课程质量管控机制，持续优化审核流程，保障内容安全与专业性； 7、跟踪智慧教育行业动态、政策变化及技术发展趋势，提出产品优化与创新建议； 8、探索AI、大数据等技术在教育场景的应用，推动智慧课程产品升级。 岗位要求: 1、全日制本科及以上学历，教育学、计算机科学等相关专业优先； 2、具备扎实的学科知识背景，熟悉至少一门学科的知识体系； 3、了解知识图谱相关技术，如本体构建、语义网等； 4、具备良好的数据处理能力和逻辑思维能力； 5、优秀的沟通能力和团队合作精神，热爱教育事业。 | H15: 13 | I15: 46326
E16: 项目经理 | F16: 8000-12000元/月 | G16: 岗位职责: 1、根据公司产品推广计划，配合市场需求进行产品宣讲、演示、需求沟通、方案设计、售前技术支持等工作； 2、项目跟进及管理：把握客户需求并与客户保持良好有效的沟通；负责与市场、研发和设计等团队合作，从项目维度进行管理，协调相关资源，推进项目进度，控制项目周期、项目质量等； 3、根据市场需要，提供各类产品方案并进行后续跟踪与修改，针对项目推广中的具体问题，与产品及研发进行对接，并向市场提供解决方案，推动市场发展； 4、负责深入挖掘客户的业务需求及改进意见，及时反馈、跟踪和解决问题，巩固客户关系，提高客户满意度； 5、对产品有充分理解，熟悉上线产品功能及业务逻辑关系，负责产品的售后培训、维护服务等相关工作。 岗位要求: 1、全日制本科及以上学历，教育技术、计算机、软件工程、信息系统工程等相关专业优先； 2、做事踏实细致，有团队协作意识，沟通表达能力强，思维逻辑严谨； 3、普通话标准，沟通、表达、逻辑思维能力强，具备商务演讲能力者优先； 4、执行、协调、管理能力突出，对市场项目把控能力强，能够承受压力，适应高频短期出差； 5、热爱教育行业。 | H16: 3 | I16: 46326
A17: =MAX($A$2:A16)+1 -> 6 | B17: 长沙市伟迅餐具有限公司 | C17: 长沙市伟迅餐具有限公司成立于2003年，全新的厂房，宽敞的车间，舒适的宿舍，住4-6人/间都带独立卫生间和浴室，地处湖南长沙经济技术开发区榔梨工业园，是全国品质优选的竹筷提供商。这里交通便利，铁路，港口直达各地。我公司自成立以来，在平等互利，保质保量，恪守信誉的原则下，已和全国各地及国外的客商建立了良好的伙伴关系，如：日本、美国、东南亚都有客户。公司现有“伟迅”、“ZW”、“湘箸”三个商标，伟迅商标被评为湖南省著名商标。产品有卫生竹筷、竹木工艺品、竹签、竹串、牙签等竹制品及生产竹筷的成套设备、配件及技术培训。目前公司可供应筷子几十种，品种有双生、天削、圆单支、塑包筷、纸包筷等。公司网址：www.weixun168.cn | D17: 长沙县榔梨工业园福中路41号 | E17: 外贸业务员 | F17: 3000-10000元/月 | G17: 岗位职责： 1、能独立处理工作、善于分析思考问题，有责任心； 2、具有团队合作精神和独立处事能力，勇于开拓和创新； 3、通过阿里巴巴平台，独立开发维护客户，达成销售。 岗位要求： 1、国际贸易、日语或商务英语等相关专业； 2、大学英语四级或以上，具有英语听、说、写能力。 | H17: 4 | I17: 46326 | J17: 刘部长 | K17: 13755144598 | L17: 服务业 | M17: 其他 | N17: 长沙人才市场
E18: 电商业务员 | F18: 3000-10000元/月 | G18: 岗位职责： 1、能独立处理工作、善于分析思考问题，有责任心； 2、具有团队合作精神和独立处事能力，勇于开拓和创新； 3、通过阿里巴巴平台，独立开发维护客户，达成销售。 岗位要求： 1、国际贸易、日语或商务英语等相关专业； 2、大学英语四级或以上，具有英语听、说、写能力。 | H18: 2 | I18: 46326
E19: 设备维护 | F19: 3000-8000元/月 | G19: 岗位职责： 1、负责设备日常维护； 2、负责对设备、设施进行安全检查； 3、进行综合维修的日常工作。 岗位要求： 1、机电类相关专业； 2、具有基本的设备故障诊断、维护和维修能力； 3、熟悉各类机电设备的技术性能与操作规程。 | H19: 2 | I19: 46326
E20: 技术员 | F20: 3000-6000元/月 | G20: 岗位职责： 1、通过光绘机对产品进行检测； 2、对设备进行调试维护以及参数更新。 岗位要求： 1、计算机相关专业； 2、学习能力强，适应能力强。 | H20: 2 | I20: 46326
E21: 储备干部 | F21: 3000-5000元/月 | G21: 岗位职责： 1、生产系统储备干部，熟悉生产、工艺、品控等生产基础环节； 2、能适应调岗以及轮岗； 3、为公司可持续发展，充实生产系统基础管理、工艺、品控队伍。 岗位要求： 1、大专学历，机械、计算机专业优先； 2、思维敏捷、性格开朗、有团队协作精神，能够在压力下完成任务，富有工作激情和热情，学习能力强，优秀的沟通能力。 | H21: 2 | I21: 46326
A22: =MAX($A$2:A21)+1 -> 7 | B22: 长沙鸿颜网络科技有限公司 | C22: 长沙鸿颜网络科技有限公司创立于2025年，是一家网络新媒体运营公司，聚焦大众情绪压力领域，以培养孵化主播/主理人为核心，采用“线上便捷触达”，为客户提供心理支持、心理关怀、心灵疗愈的文化服务平台。 我们拥有先进自研平台和技术，专业的孵化团队和完善的孵化机制，积累了领先的行业经验和丰富的资源，通过深度挖掘和培养每个主播/主理人，从“平凡”到“闪耀”，让每个人的热爱都找到路途和归处，帮助每个人梦想照进现实，实现个人、团队、社会价值最大化。 | D22: 长沙市雨花区雨花亭街道自然苑1B栋120号22层 | E22: 前台 | F22: 3000-5000元/月 | G22: 工作地点：长沙 岗位要求： 1、有亲和力，工作认真细心； 2、有责任心、执行力强，具备良好的沟通能力和团队协作精神； 3、有前台工作经验者优先。 | H22: 2 | I22: 46326 | J22: 黎炜佳 | K22: 13517406389 | L22: 广告_媒体 | M22: 其他 | N22: 长沙人才市场
E23: 新媒体运营专员 | F23: 4000-8000元/月 | G23: 工作地点：长沙 岗位要求： 1、工作认真细心，对网络新媒体感兴趣； 2、有责任心、执行力强，具备良好的沟通能力和团队协作精神； 3、熟悉电脑基本操作，有学习新媒体运营的热情。 | H23: 5 | I23: 46326
E24: 客服专员 | F24: 3000-6000元/月 | G24: 工作地点：长沙 岗位要求： 1、有亲和力，工作认真细心； 2、有责任心、执行力强，具备良好的沟通能力和团队协作精神； 3、熟悉电脑基本操作，有为客户解答问题的服务意识； 4、有客服工作经验者优先。 | H24: 10 | I24: 46326
E25: 新媒体主播 | F25: 6000-12000元/月 | G25: 岗位要求： 1、有亲和力，工作认真细心； 2、有责任心、执行力强，具备良好的沟通能力和团队协作精神； 3、熟悉电脑基本操作，有为客户解答问题的服务意识； 4、有客服工作经验者优先。 | H25: 10 | I25: 46326
E26: 人事专员 | F26: 3500-6000元/月 | G26: 工作地点：长沙 岗位要求： 1、有责任心、执行力强，具备良好的沟通能力和团队协作精神； 2、有人事工作经验者优先。 | H26: 3 | I26: 46326
A27: =MAX($A$2:A26)+1 -> 8 | B27: 湖南艾方生物科技有限公司 | C27: 湖南艾方生物科技有限公司成立于2020年，位于长沙湘江新区，是一家专注于肿瘤病理诊断试剂集研发、生产、销售为一体的国家高新技术企业、专精特新中小企业、长沙市智能制造试点企业。 目前主要产品为mIHC多重荧光染色整体解决方案产品及服务、以及临床病理诊断免疫组化项目。 公司自成立以来一直专注于免疫组化抗体试剂、病理染色试剂等科研及体外诊断试剂（IVD）及相关配套仪器设备的研发，搭建了空间组学·多重荧光染色&数据AI高阶分析平台、肿瘤病理诊断免疫组化平台。 已拥有3400余种兔单克隆科研抗体，400余种病理诊断级别免疫组化抗体(IVD)，100余种病理染色试剂(IVD)，产品研发、生产体系通过了ISO13485医疗器械质量管理体系认证，并在药品监督管理局获得了医疗器械产品及生产备案证。 | D27: 湖南省长沙市岳麓区世界计算长沙智谷A5栋20楼 | E27: 病理技术员 | F27: 4000-7000元/月 | G27: 岗位职责： 1、常规病理制片：独立完成常规石蜡切片，确保切片质量符合诊断要求； 2、特殊染色与检测：开展HE染色、免疫组化染色、免疫荧光染色等技术操作，支持病理诊断和科研需求； 3、标本接收与管理：负责病理标本的核收、签收、登记及不合格标本的处理，确保标本信息准确无误； 4、仪器设备维护：承担切片机、染色机、脱水机等仪器的日常保养、故障排查及维修，保障设备正常运行； 5、试剂与耗材管理：负责试剂、染料、耗材的请领、保管及配置，监控试剂有效期和使用规范； 6、质量体系建设：参与制定和完善实验流程、SOP文件，开展制片质量检查与质控数据登记，确保操作标准化； 7、能够熟练操作和维护实验室常用仪器设备，如离心机、移液器、显微镜等。 | H27: 10 | I27: 46326 | J27: 兰惠婷 | K27: 13548634526 | L27: 制药_医疗 | M27: 大健康产业链（含东方眼谷、生物医药及生命科学） | N27: 长沙人才市场
E28: 病理研究员 | F28: 6000-9000元/月 | G28: 岗位职责： 1、负责病理实验免疫组化（IHC）/免疫荧光（IF）/多标荧光（mIHC）的实验设计； 2、熟练操作免疫组化/荧光染色机器，熟悉实验流程，进行上机/手工实验； 3、进行试剂适配工作，准确详细地记录实验设计和试验结果，整理实验报告； 4、按时保质保量完成项目任务，及时准确宇项目相关人员沟通； 5、完成上级交付的其他任务。 | H28: 6 | I28: 46326
E29: 取材技术员 | F29: 5000-8000元/月 | G29: 岗位职责： 1、负责不同动物、不同组织部位的样本解剖与取材操作，熟练掌握各类取材技巧，严格把控取材标准，确保样本质量满足科研及诊断实验要求； 2、熟练完成各类组织样本的包埋操作，精准把控包埋流程与细节，保障包埋效果符合后续科研、诊断工作标准； 3、依据不同组织样本的特性，灵活调整脱水时间与工艺参数，熟练掌握脱水优化技巧，确保组织脱水效果达标； 4、负责取材、脱水、包埋相关实验设备的日常清洁、维护与保养，及时排查设备简易故障，保障设备正常运行； 5、严格遵守实验室 SOP 操作规范及生物安全要求，规范完成样本标识、实验记录与台账整理，保证实验数据可追溯； 6、配合科研 / 诊断项目进度，高效完成样本前处理工作，协助解决实验过程中的技术问题； 7、参与实验室样本前处理流程优化，提升取材、脱水、包埋工作的效率与质量。 | H29: 2 | I29: 46326
A30: =MAX($A$2:A29)+1 -> 9 | B30: 湖南冠领君娱文化传媒有限公司 | C30: 湖南冠领君娱文化传媒有限公司创立于2023年，是一家以文化艺术，文化娱乐经济人，以培养孵化主播、主理人网络模特为核心。 我们拥有先进自研平台和技术，专业的孵化团队和完善的孵化机制，积累了领先的行业经验和丰富的资源，通过深度挖掘和培养让每个拥有梦想的新人从“平凡”到“闪耀”，让每个人的热爱都找到路途和归处，帮助每个人梦想照进现实，实现个人、团队、社会价值最大化。 | D30: 长沙市雨花区冠铭商务中心2栋1806室 | E30: 前台 | F30: 3000-5000元/月 | G30: 工作地点：长沙 岗位要求： 1、有亲和力，工作认真细心； 2、有责任心、执行力强，具备良好的沟通能力和团队协作精神； 3、有前台工作经验者优先。 | H30: 2 | I30: 46326 | J30: 颜总 | K30: 19082179993 | L30: 广告_媒体 | M30: 其他 | N30: 长沙人才市场
E31: 新媒体模特 | F31: 6000元/月 | G31: 工作地点：长沙 岗位要求： 1、工作认真细心，对网络新媒体感兴趣； 2、有责任心、执行力强，具备良好的沟通能力和团队协作精神； 3、熟悉电脑基本操作，有学习新媒体运营的热情。 工资：通过培训和考核后，保底6000元/月 | H31: 5 | I31: 46326
E32: 短视频演员 | F32: 6000元/月 | G32: 工作地点：长沙 岗位要求： 1、有亲和力，工作认真细心； 2、有责任心、执行力强，具备良好的沟通能力和团队协作精神； 3、熟悉电脑基本操作，有为客户解答问题的服务意识； 4、有客服工作经验者优先。 工资：通过培训和考核后，保底6000元/月 | H32: 20 | I32: 46326
A33: =MAX($A$2:A32)+1 -> 10 | B33: 瑞幸咖啡（长沙）有限公司 | C33: luckin coffee（瑞幸咖啡）总部位于厦门，是中国门店数量最多的连锁咖啡品牌。瑞幸咖啡以“创造幸运时刻，激发美好生活热望”为使命，充分利用移动互联网和大数据技术的新零售模式，与各领域优质供应商深度合作，打造高品质的消费体验，为顾客创造幸运时刻。 | D33: 长沙市内瑞幸咖啡门店（交通10公里就近安排） | E33: 咖啡师（学生兼职） | F33: 3000-5000元/月 | G33: 岗位职责： 1、制作和提供品质如一的饮品和轻食； 2、与顾客和同伴保持良好的沟通，为所有顾客提供优质的服务； 3、按照店面清洁标准，每天执行清洁工作，保持干净和舒适的门店环境； 4、按照店面标准，完成设备清洁及设备维护工作。 岗位要求： 1、高中（中专）及以上学历； 2、能够接受轮班制工作； 3、具备优秀的客户服务意识，能为顾客提供优质的服务； 4、为人正直诚信，尊重他人，学习能力强，充满热情，抗压能力强，能够接受高强度工作。 | H33: 100 | I33: 46326 | J33: 刘女士 | K33: 19376878689 | L33: 贸易_消费_制造_营运 | M33: 其他 | N33: 长沙人才市场
A34: =MAX($A$2:A33)+1 -> 11 | B34: 湖南湘仪实验室仪器开发有限公司 | C34: 湖南湘仪实验室仪器开发有限公司是一家集研发、生产、销售和售后服务于一体的国家级高新技术企业，专业生产离心机已50多年。目前已经拥有在医疗、血站、高校、生命科学、生物制药等领域应用的多系列产品。公司通过IS09001国际质量体系、IS013485医疗器械质量体系、IS014001环境管理体系、IS045001职业健康安全管理体系认证和国际CE 产品认证。 公司是国家级“高新技术企业”、湖南省专精特新“小巨人企业”、湖南省制造业单项冠军企业、长沙市智能制造示范企业等。 公司是中国仪器仪表行业协会常务理事单位、湖南省仪器仪表行业协会副理事长单位、湖南省医疗器械行业协会常务副会长单位、长沙市医疗器械行业协会常务副会长单位。。 “顾客至上、科技领先、精工精品、优质高效”是湘仪的质量方针。湘仪已成为国内实验室仪器的制造基地，是国内最大的实验室离心机制造商。 | D34: 长沙市望城经济开发区 金穗路35号湘仪科技园 | E34: 销售经理 | F34: 6000-8000元/月 | G34: 1、22--30周岁，170CM以上，形象气质佳； 2、全日制大专及以上学历，专业不限； 3、具有较强的商务谈判能力，亲和力强，沟通能力强且勤奋； 4、能接受出差或驻外地工作，应届毕业生或本科学历者优先。 | H34: 10 | I34: 46203 | J34: 李女士 | K34: 18108460061 | L34: 贸易_消费_制造_营运 | M34: 其他 | N34: 长沙人才市场
E35: 采购专员 | F35: 6000-8000元/月 | G35: 1、全日制大专及以上学历，供应链管理、物流管理等相关专业，男性优先； 2、具备良好的谈判和沟通能力，较强的数据分析能力，能够独立处理各类采购事务； 3、有钣金、电气件、五金等采购工作类经验者优先； 4、工作责任心强，服从管理，电脑办公软件较熟练。 | H35: 1 | I35: 46203
E36: 质量工程师 | F36: 6000-8000元/月 | G36: 1、全日制大专及以上学历，质量管理、机电一体化、机械制造等相关专业； 2、熟悉机械加工、加工中心产品工艺流程和质量控制流程，3年以上质量工程师相关工作经验； 3、具备产品质量控制、分析、改善能力，良好的沟通、协调、组织能力； 4、工作责任心强，服从管理，电脑办公软件较熟练，统计分析能力强； 5、具有三坐标、投影仪、圆柱度仪等仪器使用经验者优先。 | H36: 1 | I36: 46203
E37: 外协检验员 | F37: 5000-6000元/月 | G37: 1、高中及以上学历，机电专业、机械制造等相关专业； 2、熟悉机械加工产品工艺流程和质量检验流程，3年以上检验工作经验。熟悉铝合金阳极氧化，不锈钢化抛表面处理检验标准； 3、熟悉机械二维图纸，熟练使用卡尺、千分尺、高度尺、洛氏硬度计等常规测量仪器； 4、工作责任心强，服从管理，电脑办公软件较熟练。 | H37: 1 | I37: 46203
E38: 牧野五轴加工中心 | F38: 5000-6000元/月 | G38: 1、高中及以上学历，数控、机械加工等相关专业优先； 2、3年以上五轴加工中心操作经验，熟悉牧野（MAKINO）系统者优先； 3、能独立识读机械图纸、编制五轴加工程序，熟练使用UG、Mastercam等编程软件；熟悉工装夹具选型与刀具参数优化； 4、有加工中心操作证，熟悉ISO9001质量体系优先； 5、具备较强的问题排查能力，能处理设备常见故障；工作细致，严格遵守安全与质量规范。 | H38: 1 | I38: 46203
E39: 硬件工程师 | F39: 8000-10000元/月 | G39: 1、全日制本科及以上学历，电子或自动控制相关专业，3-5年左右硬件开发设计工作经验； 2、电子基础理论知识扎实，熟悉模拟电路和数字电路，有多种传感器硬件设计经验及高要求复杂产品设计经验者优先； 3、有STM32相关器件或电机驱动软件或硬件或电机驱动相关算法开发工作经验者优先； 4、精通硬件PCB Layout开发技能，精通至少一种Layout设计工具； 5、工作积极主动，责任心强，团队精神强，服从管理，有韧性。 | H39: 1 | I39: 46203
E40: 单片机软件工程师 | F40: 8000-10000元/月 | G40: 1、全日制本科及以上学历，电子、通信、自动化、计算机等相关专业,有工作经验优先； 2、熟练运用C编程、Keil编译器，良好的编程习惯和技巧； 3、具备交流、直流电机驱动控制，触摸屏、机械臂系统工作经验者优先； 4、熟悉至少一种单片机的内部结构、外围接口及单片机应用的相关通信协议；熟悉STM32等常用芯片，英语熟练，可以无障碍阅读英文IC资料； 5、对单片机常用UART、SPI、CAN、以太网等接口应用开发有丰富的经验； 6、熟悉数字电路，能看懂硬件电路设计图； 7、工作积极主动，责任心强，团队精神强，服从管理，有韧性。 | H40: 1 | I40: 46203
...

Sheet Sheet1
A1: 老百姓大药房连锁股份有限公司
A6: 三一集团重卡事业部
A7: 中建智慧城市服务有限公司
A13: 中国平安人寿保险股份有限公司湖南分公司
A22: 湖南省茶业集团股份有限公司
A27: 湖南嘉合晟贸易有限公司
A29: 长沙市云研教育科技有限公司
A30: 湖南逸星文化传媒有限公司
A32: 湖南伍爱创意文化科技有限公司
A33: 十足集团有限公司
A37: 湖南鼎峰相见信息科技有限公司
A40: 深圳市沃尔核材股份有限公司
... A606: 湖南辰控智能科技有限公司
